BEGIN:VCALENDAR
VERSION:2.0
PRODID:-//Insight Wellness Center - ECPv6.15.20//NONSGML v1.0//EN
CALSCALE:GREGORIAN
METHOD:PUBLISH
X-WR-CALNAME:Insight Wellness Center
X-ORIGINAL-URL:https://insightforwellness.com
X-WR-CALDESC:Events for Insight Wellness Center
REFRESH-INTERVAL;VALUE=DURATION:PT1H
X-Robots-Tag:noindex
X-PUBLISHED-TTL:PT1H
BEGIN:VTIMEZONE
TZID:America/Los_Angeles
BEGIN:DAYLIGHT
TZOFFSETFROM:-0800
TZOFFSETTO:-0700
TZNAME:PDT
DTSTART:20220313T100000
END:DAYLIGHT
BEGIN:STANDARD
TZOFFSETFROM:-0700
TZOFFSETTO:-0800
TZNAME:PST
DTSTART:20221106T090000
END:STANDARD
BEGIN:DAYLIGHT
TZOFFSETFROM:-0800
TZOFFSETTO:-0700
TZNAME:PDT
DTSTART:20230312T100000
END:DAYLIGHT
BEGIN:STANDARD
TZOFFSETFROM:-0700
TZOFFSETTO:-0800
TZNAME:PST
DTSTART:20231105T090000
END:STANDARD
BEGIN:DAYLIGHT
TZOFFSETFROM:-0800
TZOFFSETTO:-0700
TZNAME:PDT
DTSTART:20240310T100000
END:DAYLIGHT
BEGIN:STANDARD
TZOFFSETFROM:-0700
TZOFFSETTO:-0800
TZNAME:PST
DTSTART:20241103T090000
END:STANDARD
END:VTIMEZONE
BEGIN:VEVENT
DTSTART;TZID=America/Los_Angeles:20230625T133000
DTEND;TZID=America/Los_Angeles:20230625T163000
DTSTAMP:20260421T114828
CREATED:20240103T090134Z
LAST-MODIFIED:20240201T121329Z
UID:10487-1687699800-1687710600@insightforwellness.com
SUMMARY:Mental Health And Our Gut
DESCRIPTION:Date of Course: October 25\, 2022 Time of Course: 1:30pm-4:30pm\nDr. Rozakis\, Phd\, LCSW\, BCIM and Dr. Murali\, MD Present On Mental Health and the Gut- Mental Health and Why People are Asking for CBD
URL:https://insightforwellness.com/event/mental-health-and-our-gut/
LOCATION:Insight Wellness Center\, 2821 Crow Canyon Rd\, Suite 202\, San Ramon\, CA\, 94583\, United States
ATTACH;FMTTYPE=image/webp:https://storage.googleapis.com/pilotpractice-wordpress-assets/insightforwellness.com/2024/02/Dr.-Kat-and-Dr.-Murali-Presentation.webp
END:VEVENT
END:VCALENDAR