BEGIN:VCALENDAR
VERSION:2.0
PRODID:-//Insight Wellness Center - ECPv6.15.20//NONSGML v1.0//EN
CALSCALE:GREGORIAN
METHOD:PUBLISH
X-ORIGINAL-URL:https://insightforwellness.com
X-WR-CALDESC:Events for Insight Wellness Center
REFRESH-INTERVAL;VALUE=DURATION:PT1H
X-Robots-Tag:noindex
X-PUBLISHED-TTL:PT1H
BEGIN:VTIMEZONE
TZID:America/Los_Angeles
BEGIN:DAYLIGHT
TZOFFSETFROM:-0800
TZOFFSETTO:-0700
TZNAME:PDT
DTSTART:20240310T100000
END:DAYLIGHT
BEGIN:STANDARD
TZOFFSETFROM:-0700
TZOFFSETTO:-0800
TZNAME:PST
DTSTART:20241103T090000
END:STANDARD
BEGIN:DAYLIGHT
TZOFFSETFROM:-0800
TZOFFSETTO:-0700
TZNAME:PDT
DTSTART:20250309T100000
END:DAYLIGHT
BEGIN:STANDARD
TZOFFSETFROM:-0700
TZOFFSETTO:-0800
TZNAME:PST
DTSTART:20251102T090000
END:STANDARD
BEGIN:DAYLIGHT
TZOFFSETFROM:-0800
TZOFFSETTO:-0700
TZNAME:PDT
DTSTART:20260308T100000
END:DAYLIGHT
BEGIN:STANDARD
TZOFFSETFROM:-0700
TZOFFSETTO:-0800
TZNAME:PST
DTSTART:20261101T090000
END:STANDARD
BEGIN:DAYLIGHT
TZOFFSETFROM:-0800
TZOFFSETTO:-0700
TZNAME:PDT
DTSTART:20270314T100000
END:DAYLIGHT
BEGIN:STANDARD
TZOFFSETFROM:-0700
TZOFFSETTO:-0800
TZNAME:PST
DTSTART:20271107T090000
END:STANDARD
END:VTIMEZONE
BEGIN:VEVENT
DTSTART;TZID=America/Los_Angeles:20250501T120000
DTEND;TZID=America/Los_Angeles:20250501T130000
DTSTAMP:20260421T100934
CREATED:20250322T203011Z
LAST-MODIFIED:20250322T203011Z
UID:14190-1746100800-1746104400@insightforwellness.com
SUMMARY:Grief Group on Zoom
DESCRIPTION:Are you grieving a significant life change? Our Grief and Loss Support Group offers a safe\, supportive space where you can share your feelings\, connect with others\, and begin to heal. Whether you are coping with the death of a family member or friend\, the end of a marriage or partnership\, loss of health\, or another meaningful transition\, this group provides comfort and understanding. Together\, we explore healthy ways to manage grief\, reduce feelings of isolation\, and support each other through the healing process. The group begins Thursday\, May 1\, at 12:00 PM\, and meets weekly for one hour over 8 weeks. The cost is $25.00 for the group or 200.00 for 8 weeks. Register on our Get Started link or Contact Us. Join us and find community\, connection\, and hope. Spaces are limited—reserve your spot today.
URL:https://insightforwellness.com/event/grief-group-on-zoom/
LOCATION:Insight Wellness Center\, 2821 Crow Canyon Rd\, Suite 202\, San Ramon\, CA\, 94583\, United States
CATEGORIES:Grief Support Group
ATTACH;FMTTYPE=image/webp:https://storage.googleapis.com/pilotpractice-wordpress-assets/insightforwellness.com/2024/11/Healing-from-Grief-and-Loss.webp
END:VEVENT
BEGIN:VEVENT
DTSTART;TZID=America/Los_Angeles:20250501T120000
DTEND;TZID=America/Los_Angeles:20250619T130000
DTSTAMP:20260421T100934
CREATED:20250501T190016Z
LAST-MODIFIED:20260416T221333Z
UID:12507-1746100800-1750338000@insightforwellness.com
SUMMARY:Grief Support Group:  Join Our Grief and Loss Support Group on Zoom
DESCRIPTION:Are you struggling with the loss? Find solace and support. Your group provides a safe space to navigate the complexities of grief\, share experiences\, and learn coping strategies \nWhether you are coping with the death of a family member\, friend\, or partner\, or dealing with another life-changing loss\, this group is here to help you find comfort and healing. \nJoin us Thursday\, May 1st at noon on Zoom. 25.00 per week ( 200.00 for 8 weeks). Register now to secure your spot on the waitlist by visiting our website’s Get Started  and indicating your interest in the “Grief Support Group.” Let us walk with you on your path to healing. \nTo register send us a message on the Contact Us page or complete the Intake Form Link located on the Forms Tab.
URL:https://insightforwellness.com/event/grief-and-loss-support-group/
LOCATION:Insight Wellness Center\, 2821 Crow Canyon Rd\, Suite 202\, San Ramon\, CA\, 94583\, United States
CATEGORIES:Grief Support Group
ATTACH;FMTTYPE=image/webp:https://storage.googleapis.com/pilotpractice-wordpress-assets/insightforwellness.com/2024/01/Grief-and-Life-Event-img.webp
END:VEVENT
BEGIN:VEVENT
DTSTART;TZID=America/Los_Angeles:20260419T130000
DTEND;TZID=America/Los_Angeles:20260419T143000
DTSTAMP:20260421T100934
CREATED:20260414T215406Z
LAST-MODIFIED:20260421T170802Z
UID:24973-1776603600-1776609000@insightforwellness.com
SUMMARY:01:00PM  LGBTQIA+ SUPPORT GROUPS Youth Support Group
DESCRIPTION:A Safe Space to Be Yourself Being a teen is a major transition\, and having a safe place to feel understood makes all the difference.This clinician-led group is designed specifically for LGBTQIA+ youth to connect in a supportive\, pressure-free environment.Led by Cole Scanlon\, the group focuses on building self-confidence\, processing daily experiences\, and developing the skills needed to navigate school and social life with pride.It’s a place to share your story\, hear from others\, and know that you aren’t alone. When: Sundays from 1:00–2:30 PM Address: 2821 Crow Canyon Road\,Suite 202 San Ramon\, CA 94583 Phone Number: (925) 722-6225 Facilitator: Cole Scanlon (she/her)\, AMFT Admission: Open group with rolling admission. We prioritize group cohesion to make sure every new member feels welcomed and comfortable. Investment: $30 per session. Insurance may be accepted based on coverage—contact us for a benefits verification.
URL:https://insightforwellness.com/event/teen-support-group/
LOCATION:CA
END:VEVENT
BEGIN:VEVENT
DTSTART;TZID=America/Los_Angeles:20260419T150000
DTEND;TZID=America/Los_Angeles:20260419T163000
DTSTAMP:20260421T100934
CREATED:20260415T125747Z
LAST-MODIFIED:20260421T152540Z
UID:24978-1776610800-1776616200@insightforwellness.com
SUMMARY:LGBTQIA+ SUPPORT GROUPS Adult Support Group
DESCRIPTION:Navigating adulthood while honoring your authentic identity comes with a unique set of challenges and triumphs. Our clinician-led adult support group provides a confidential\, structured space to process life experiences\, develop healthy coping strategies\, and foster meaningful connections with peers. Whether you are navigating coming out\, relationship dynamics\, or professional life\, you’ll find a supportive environment focused on emotional well-being and collective growth. When: Sundays from 3:00–4:30 PM Address: 2821 Crow Canyon Road\,Suite 202 San Ramon\, CA 94583 Phone Number: (925) 722-6225 Facilitator: Cole Scanlon (she/her)\, AMFT Admission: Open group with rolling admission; new members are integrated thoughtfully to ensure a cohesive therapeutic experience. Investment: $30 per session. We also accept select insurance plans—please contact our office to verify your specific clinical eligibility and coverage.
URL:https://insightforwellness.com/event/adult-support-group/
LOCATION:Insight Wellness Center\, 2821 Crow Canyon Rd\, Suite 202\, San Ramon\, CA\, 94583\, United States
END:VEVENT
END:VCALENDAR