BEGIN:VCALENDAR
VERSION:2.0
PRODID:-//Insight Wellness Center - ECPv6.15.20//NONSGML v1.0//EN
CALSCALE:GREGORIAN
METHOD:PUBLISH
X-WR-CALNAME:Insight Wellness Center
X-ORIGINAL-URL:https://insightforwellness.com
X-WR-CALDESC:Events for Insight Wellness Center
REFRESH-INTERVAL;VALUE=DURATION:PT1H
X-Robots-Tag:noindex
X-PUBLISHED-TTL:PT1H
BEGIN:VTIMEZONE
TZID:America/Los_Angeles
BEGIN:DAYLIGHT
TZOFFSETFROM:-0800
TZOFFSETTO:-0700
TZNAME:PDT
DTSTART:20230312T100000
END:DAYLIGHT
BEGIN:STANDARD
TZOFFSETFROM:-0700
TZOFFSETTO:-0800
TZNAME:PST
DTSTART:20231105T090000
END:STANDARD
BEGIN:DAYLIGHT
TZOFFSETFROM:-0800
TZOFFSETTO:-0700
TZNAME:PDT
DTSTART:20240310T100000
END:DAYLIGHT
BEGIN:STANDARD
TZOFFSETFROM:-0700
TZOFFSETTO:-0800
TZNAME:PST
DTSTART:20241103T090000
END:STANDARD
BEGIN:DAYLIGHT
TZOFFSETFROM:-0800
TZOFFSETTO:-0700
TZNAME:PDT
DTSTART:20250309T100000
END:DAYLIGHT
BEGIN:STANDARD
TZOFFSETFROM:-0700
TZOFFSETTO:-0800
TZNAME:PST
DTSTART:20251102T090000
END:STANDARD
BEGIN:DAYLIGHT
TZOFFSETFROM:-0800
TZOFFSETTO:-0700
TZNAME:PDT
DTSTART:20260308T100000
END:DAYLIGHT
BEGIN:STANDARD
TZOFFSETFROM:-0700
TZOFFSETTO:-0800
TZNAME:PST
DTSTART:20261101T090000
END:STANDARD
BEGIN:DAYLIGHT
TZOFFSETFROM:-0800
TZOFFSETTO:-0700
TZNAME:PDT
DTSTART:20270314T100000
END:DAYLIGHT
BEGIN:STANDARD
TZOFFSETFROM:-0700
TZOFFSETTO:-0800
TZNAME:PST
DTSTART:20271107T090000
END:STANDARD
END:VTIMEZONE
BEGIN:VEVENT
DTSTART;TZID=America/Los_Angeles:20240628T120000
DTEND;TZID=America/Los_Angeles:20240628T120000
DTSTAMP:20260420T222049
CREATED:20240124T093651Z
LAST-MODIFIED:20240516T080643Z
UID:11857-1719576000-1719576000@insightforwellness.com
SUMMARY:Discover Your Love Language for Transformative Communication - Personalized Learning Sessions
DESCRIPTION:Every Monday\, Tuesdays and Wednesdays Time: 12:00 PM\nVenue: Zoom (Online)\nUnlock the secrets to meaningful connections and elevate your relationships with our weekly “Discover Your Love Language for Transformative Communication” personalized learning sessions. Tailored for individuals seeking a unique and educational experience\, these sessions focus on enhancing communication skills through an exploration of love languages. \nKey Benefits:\nPersonalized Insight:\nUncover your unique love language for personalized insights into expressing and receiving love.\nEffective \nCommunication:\nLearn how understanding love languages enhances communication in various relationships. \nStrengthen Bonds:\nApply newfound knowledge to strengthen bonds with partners\, family\, and friends for deeper connections. \nReduce Misunderstandings: Recognize and respect diverse love languages to minimize misunderstandings and promote harmony. \nLifetime Skill:\nAcquire a lifelong skill applicable to all relationships\, fostering understanding and connection. \nWho Should Attend:\nIndividuals aiming to deepen connections with partners or loved ones.\nCouples seeking to strengthen relationships and improve communication dynamics.\nSingles looking to understand their love language for future relationships.\nFriends and family members interested in effective communication and connection.\nAnyone curious about the transformative power of love languages in relationships. \nEvent Details: \nFrequency:\nEvery Monday\, Tuesday\, Wednesday\nTime: 12:00 PM\nFee: $85.00 per session (Valentine special. This course is usually $125.00) \nImportant Note:\nThis educational and counseling experience is personalized bases on your experiences.\nSince these are informative sessions and not psychotherapy treatment but skills building\, insurance is not accepted. Once you register\, Alexandra Bletsis\, MS will send you a Zoom link for the session. \nDon’t miss the opportunity to invest in lifelong skills that positively impact your life and relationships. Join us for an enriching\, 1:1\, online experience equipped with practical tools for lasting connections. \nDiscover the language of love\, enhance communication and transform yourself and your relationships!\nThank you
URL:https://insightforwellness.com/event/discover-your-love-language-for-transformative-communication-personalized-learning-sessions/
LOCATION:Insight Wellness Center\, 2821 Crow Canyon Rd\, Suite 202\, San Ramon\, CA\, 94583\, United States
ATTACH;FMTTYPE=image/webp:https://storage.googleapis.com/pilotpractice-wordpress-assets/insightforwellness.com/2024/01/pexels-photo-10029368.webp
END:VEVENT
BEGIN:VEVENT
DTSTART;TZID=America/Los_Angeles:20250501T120000
DTEND;TZID=America/Los_Angeles:20250501T130000
DTSTAMP:20260420T222049
CREATED:20250322T203011Z
LAST-MODIFIED:20250322T203011Z
UID:14190-1746100800-1746104400@insightforwellness.com
SUMMARY:Grief Group on Zoom
DESCRIPTION:Are you grieving a significant life change? Our Grief and Loss Support Group offers a safe\, supportive space where you can share your feelings\, connect with others\, and begin to heal. Whether you are coping with the death of a family member or friend\, the end of a marriage or partnership\, loss of health\, or another meaningful transition\, this group provides comfort and understanding. Together\, we explore healthy ways to manage grief\, reduce feelings of isolation\, and support each other through the healing process. The group begins Thursday\, May 1\, at 12:00 PM\, and meets weekly for one hour over 8 weeks. The cost is $25.00 for the group or 200.00 for 8 weeks. Register on our Get Started link or Contact Us. Join us and find community\, connection\, and hope. Spaces are limited—reserve your spot today.
URL:https://insightforwellness.com/event/grief-group-on-zoom/
LOCATION:Insight Wellness Center\, 2821 Crow Canyon Rd\, Suite 202\, San Ramon\, CA\, 94583\, United States
CATEGORIES:Grief Support Group
ATTACH;FMTTYPE=image/webp:https://storage.googleapis.com/pilotpractice-wordpress-assets/insightforwellness.com/2024/11/Healing-from-Grief-and-Loss.webp
END:VEVENT
BEGIN:VEVENT
DTSTART;TZID=America/Los_Angeles:20250501T120000
DTEND;TZID=America/Los_Angeles:20250619T130000
DTSTAMP:20260420T222049
CREATED:20250501T190016Z
LAST-MODIFIED:20260416T221333Z
UID:12507-1746100800-1750338000@insightforwellness.com
SUMMARY:Grief Support Group:  Join Our Grief and Loss Support Group on Zoom
DESCRIPTION:Are you struggling with the loss? Find solace and support. Your group provides a safe space to navigate the complexities of grief\, share experiences\, and learn coping strategies \nWhether you are coping with the death of a family member\, friend\, or partner\, or dealing with another life-changing loss\, this group is here to help you find comfort and healing. \nJoin us Thursday\, May 1st at noon on Zoom. 25.00 per week ( 200.00 for 8 weeks). Register now to secure your spot on the waitlist by visiting our website’s Get Started  and indicating your interest in the “Grief Support Group.” Let us walk with you on your path to healing. \nTo register send us a message on the Contact Us page or complete the Intake Form Link located on the Forms Tab.
URL:https://insightforwellness.com/event/grief-and-loss-support-group/
LOCATION:Insight Wellness Center\, 2821 Crow Canyon Rd\, Suite 202\, San Ramon\, CA\, 94583\, United States
CATEGORIES:Grief Support Group
ATTACH;FMTTYPE=image/webp:https://storage.googleapis.com/pilotpractice-wordpress-assets/insightforwellness.com/2024/01/Grief-and-Life-Event-img.webp
END:VEVENT
BEGIN:VEVENT
DTSTART;TZID=America/Los_Angeles:20260419T130000
DTEND;TZID=America/Los_Angeles:20260419T143000
DTSTAMP:20260420T222049
CREATED:20260414T215406Z
LAST-MODIFIED:20260414T215406Z
UID:24973-1776603600-1776609000@insightforwellness.com
SUMMARY:Teen Support Group
DESCRIPTION:(ages 13-17) from 1:00-2:30pm
URL:https://insightforwellness.com/event/teen-support-group/
LOCATION:CA
END:VEVENT
BEGIN:VEVENT
DTSTART;TZID=America/Los_Angeles:20260419T150000
DTEND;TZID=America/Los_Angeles:20260419T163000
DTSTAMP:20260420T222049
CREATED:20260415T125747Z
LAST-MODIFIED:20260416T221322Z
UID:24978-1776610800-1776616200@insightforwellness.com
SUMMARY:Adult Support Group
DESCRIPTION:(ages 18+) from 3:00-4:30pm
URL:https://insightforwellness.com/event/adult-support-group/
LOCATION:Insight Wellness Center\, 2821 Crow Canyon Rd\, Suite 202\, San Ramon\, CA\, 94583\, United States
END:VEVENT
END:VCALENDAR