BEGIN:VCALENDAR
VERSION:2.0
PRODID:-//Insight Wellness Center - ECPv6.15.20//NONSGML v1.0//EN
CALSCALE:GREGORIAN
METHOD:PUBLISH
X-WR-CALNAME:Insight Wellness Center
X-ORIGINAL-URL:https://insightforwellness.com
X-WR-CALDESC:Events for Insight Wellness Center
REFRESH-INTERVAL;VALUE=DURATION:PT1H
X-Robots-Tag:noindex
X-PUBLISHED-TTL:PT1H
BEGIN:VTIMEZONE
TZID:America/Los_Angeles
BEGIN:DAYLIGHT
TZOFFSETFROM:-0800
TZOFFSETTO:-0700
TZNAME:PDT
DTSTART:20220313T100000
END:DAYLIGHT
BEGIN:STANDARD
TZOFFSETFROM:-0700
TZOFFSETTO:-0800
TZNAME:PST
DTSTART:20221106T090000
END:STANDARD
BEGIN:DAYLIGHT
TZOFFSETFROM:-0800
TZOFFSETTO:-0700
TZNAME:PDT
DTSTART:20230312T100000
END:DAYLIGHT
BEGIN:STANDARD
TZOFFSETFROM:-0700
TZOFFSETTO:-0800
TZNAME:PST
DTSTART:20231105T090000
END:STANDARD
BEGIN:DAYLIGHT
TZOFFSETFROM:-0800
TZOFFSETTO:-0700
TZNAME:PDT
DTSTART:20240310T100000
END:DAYLIGHT
BEGIN:STANDARD
TZOFFSETFROM:-0700
TZOFFSETTO:-0800
TZNAME:PST
DTSTART:20241103T090000
END:STANDARD
END:VTIMEZONE
BEGIN:VEVENT
DTSTART;TZID=America/Los_Angeles:20230222T110000
DTEND;TZID=America/Los_Angeles:20230222T130000
DTSTAMP:20260421T190031
CREATED:20240112T113513Z
LAST-MODIFIED:20240203T102920Z
UID:11426-1677063600-1677070800@insightforwellness.com
SUMMARY:Love Languages
DESCRIPTION:Improving your relationship ( Individuals and Couples Welcome )\nBeginning February 22 \n\n11am LA\,\n2pm NY\,\n7pm London\,\n9pm Athens\n\nTuesdays and Wednesdays at noon and Thursdays at 11
URL:https://insightforwellness.com/event/love-languages/
LOCATION:Insight Wellness Center\, 2821 Crow Canyon Rd\, Suite 202\, San Ramon\, CA\, 94583\, United States
ATTACH;FMTTYPE=image/jpeg:https://storage.googleapis.com/pilotpractice-wordpress-assets/insightforwellness.com/2024/01/Love-languages-past-img.jpg
END:VEVENT
END:VCALENDAR